BEGIN:VCALENDAR
VERSION:2.0
PRODID:-//TVICO - ECPv6.15.20//NONSGML v1.0//EN
CALSCALE:GREGORIAN
METHOD:PUBLISH
X-WR-CALNAME:TVICO
X-ORIGINAL-URL:https://tvico.net
X-WR-CALDESC:Events for TVICO
REFRESH-INTERVAL;VALUE=DURATION:PT1H
X-Robots-Tag:noindex
X-PUBLISHED-TTL:PT1H
BEGIN:VTIMEZONE
TZID:America/Boise
BEGIN:DAYLIGHT
TZOFFSETFROM:-0700
TZOFFSETTO:-0600
TZNAME:MDT
DTSTART:20250309T090000
END:DAYLIGHT
BEGIN:STANDARD
TZOFFSETFROM:-0600
TZOFFSETTO:-0700
TZNAME:MST
DTSTART:20251102T080000
END:STANDARD
BEGIN:DAYLIGHT
TZOFFSETFROM:-0700
TZOFFSETTO:-0600
TZNAME:MDT
DTSTART:20260308T090000
END:DAYLIGHT
BEGIN:STANDARD
TZOFFSETFROM:-0600
TZOFFSETTO:-0700
TZNAME:MST
DTSTART:20261101T080000
END:STANDARD
BEGIN:DAYLIGHT
TZOFFSETFROM:-0700
TZOFFSETTO:-0600
TZNAME:MDT
DTSTART:20270314T090000
END:DAYLIGHT
BEGIN:STANDARD
TZOFFSETFROM:-0600
TZOFFSETTO:-0700
TZNAME:MST
DTSTART:20271107T080000
END:STANDARD
END:VTIMEZONE
BEGIN:VEVENT
DTSTART;TZID=America/Boise:20260411T120000
DTEND;TZID=America/Boise:20260411T140000
DTSTAMP:20260422T111538
CREATED:20260206T024638Z
LAST-MODIFIED:20260206T024638Z
UID:1579-1775908800-1775916000@tvico.net
SUMMARY:District 3 & BACYPAA PRESENT GRAPEVINE WORKSHOP
DESCRIPTION:🥜🍓 Peanut Butter Jelly Time! 🍓🥜\n  \nGet ready for a fun\, welcoming\, and creative afternoon with District 3 & BACYPAA! Join us on April 11 at the Boise Alano Club for Peanut Butter Jelly Time\, a lively event centered around connection\, creativity\, and exploring The Grapevine. \nCome grab a PB&J with all the fixins and dive into interactive activities including a Grapevine Workshop\, Daily Quote\, Photo Contest\, and the fan-favorite “If Walls Could Talk”. You can even submit a story\, join the Audio Project Podcast\, and discover new ways to connect and share. \n📍 Where: Boise Alano Club\, 3820 Cassia Street\, Boise\, ID 83705 \n🕛 When: April 11\, 12 PM – 2 PM \n🥤 Bring: A beverage\, treat\, or side to share \nThis is a relaxed\, inclusive event filled with inspiration\, laughter\, and community—so come hungry\, curious\, and ready to connect!  \n \nLink to Flyer
URL:https://tvico.net/event/district-3-bacypaa-present-grapevine-workshop/
CATEGORIES:Workshop
END:VEVENT
END:VCALENDAR